BEGIN:VCALENDAR
VERSION:2.0
PRODID:-//VC Sanitz - ECPv6.5.1.5//NONSGML v1.0//EN
CALSCALE:GREGORIAN
METHOD:PUBLISH
X-WR-CALNAME:VC Sanitz
X-ORIGINAL-URL:https://test.vc-sanitz.de
X-WR-CALDESC:Veranstaltungen für VC Sanitz
REFRESH-INTERVAL;VALUE=DURATION:PT1H
X-Robots-Tag:noindex
X-PUBLISHED-TTL:PT1H
BEGIN:VTIMEZONE
TZID:Europe/Berlin
BEGIN:DAYLIGHT
TZOFFSETFROM:+0100
TZOFFSETTO:+0200
TZNAME:CEST
DTSTART:20240331T010000
END:DAYLIGHT
BEGIN:STANDARD
TZOFFSETFROM:+0200
TZOFFSETTO:+0100
TZNAME:CET
DTSTART:20241027T010000
END:STANDARD
END:VTIMEZONE
BEGIN:VEVENT
DTSTART;TZID=Europe/Berlin:20240608T170000
DTEND;TZID=Europe/Berlin:20240608T190000
DTSTAMP:20260423T131935
CREATED:20240219T075825Z
LAST-MODIFIED:20240219T075825Z
UID:3379-1717866000-1717873200@test.vc-sanitz.de
SUMMARY:Mitgliederversammlung
DESCRIPTION:
URL:https://test.vc-sanitz.de/event/mitgliederversammlung/
END:VEVENT
BEGIN:VEVENT
DTSTART;TZID=Europe/Berlin:20240427T100000
DTEND;TZID=Europe/Berlin:20240427T110000
DTSTAMP:20260423T131935
CREATED:20240218T120056Z
LAST-MODIFIED:20240218T123505Z
UID:3353-1714212000-1714215600@test.vc-sanitz.de
SUMMARY:Spieltag Damen 2 - Auswärtsspiel in Rostock
DESCRIPTION:Sporthalle Danziger Strasse\nDanziger Straße 45b/c\n18109 Rostock \nVC Sanitz II – SG PSV Rostock/Schwaaner SV II
URL:https://test.vc-sanitz.de/event/21481526/
CATEGORIES:Spieltag Damen 2
END:VEVENT
BEGIN:VEVENT
DTSTART;TZID=Europe/Berlin:20240427T100000
DTEND;TZID=Europe/Berlin:20240427T110000
DTSTAMP:20260423T131935
CREATED:20240218T120056Z
LAST-MODIFIED:20240218T123457Z
UID:3352-1714212000-1714215600@test.vc-sanitz.de
SUMMARY:Spieltag Damen 2 - Auswärtsspiel in Rostock
DESCRIPTION:Sporthalle Danziger Strasse\nDanziger Straße 45b/c\n18109 Rostock \nVC Sanitz II – Malchower SV
URL:https://test.vc-sanitz.de/event/21481511/
CATEGORIES:Spieltag Damen 2
END:VEVENT
BEGIN:VEVENT
DTSTART;TZID=Europe/Berlin:20240427T100000
DTEND;TZID=Europe/Berlin:20240427T110000
DTSTAMP:20260423T131935
CREATED:20240218T120056Z
LAST-MODIFIED:20240218T123443Z
UID:3344-1714212000-1714215600@test.vc-sanitz.de
SUMMARY:Spieltag Damen 1 - Auswärtsspiel
DESCRIPTION:Austragungsort noch offen \nVC Sanitz – PSV Neustrelitz II
URL:https://test.vc-sanitz.de/event/21480982/
CATEGORIES:Spieltag Damen 1
END:VEVENT
BEGIN:VEVENT
DTSTART;TZID=Europe/Berlin:20240427T100000
DTEND;TZID=Europe/Berlin:20240427T110000
DTSTAMP:20260423T131935
CREATED:20240218T120056Z
LAST-MODIFIED:20240218T123449Z
UID:3345-1714212000-1714215600@test.vc-sanitz.de
SUMMARY:Spieltag Damen 1 - Auswärtsspiel
DESCRIPTION:Austragungsort noch offen \nVC Sanitz – 1. VC Stralsund III
URL:https://test.vc-sanitz.de/event/21480991/
CATEGORIES:Spieltag Damen 1
END:VEVENT
BEGIN:VEVENT
DTSTART;TZID=Europe/Berlin:20240421T100000
DTEND;TZID=Europe/Berlin:20240421T110000
DTSTAMP:20260423T131935
CREATED:20240218T120056Z
LAST-MODIFIED:20240218T123437Z
UID:3355-1713693600-1713697200@test.vc-sanitz.de
SUMMARY:Spieltag Herren 2 - Heimspiel
DESCRIPTION:VC Sanitz II – VC Greifswald V
URL:https://test.vc-sanitz.de/event/21553727/
CATEGORIES:Spieltag Herren 2
END:VEVENT
BEGIN:VEVENT
DTSTART;TZID=Europe/Berlin:20240421T100000
DTEND;TZID=Europe/Berlin:20240421T110000
DTSTAMP:20260423T131935
CREATED:20240218T120056Z
LAST-MODIFIED:20240218T123430Z
UID:3354-1713693600-1713697200@test.vc-sanitz.de
SUMMARY:Spieltag Herren 2 - Heimspiel
DESCRIPTION:VC Sanitz II – Sportclub Laage
URL:https://test.vc-sanitz.de/event/21553712/
CATEGORIES:Spieltag Herren 2
END:VEVENT
BEGIN:VEVENT
DTSTART;TZID=Europe/Berlin:20240420T100000
DTEND;TZID=Europe/Berlin:20240420T110000
DTSTAMP:20260423T131935
CREATED:20240218T123256Z
LAST-MODIFIED:20240218T123119Z
UID:3349-1713607200-1713610800@test.vc-sanitz.de
SUMMARY:Spieltag Herren 1 - Auswärtsspiel in Stralendorf
DESCRIPTION:Amtssporthalle Stralendorf\nAm Wodenweg 1\n19073 Stralendorf \nVC Sanitz – Malchower SV
URL:https://test.vc-sanitz.de/event/21483463/
CATEGORIES:Spieltag Herren 1
END:VEVENT
BEGIN:VEVENT
DTSTART;TZID=Europe/Berlin:20240420T100000
DTEND;TZID=Europe/Berlin:20240420T110000
DTSTAMP:20260423T131935
CREATED:20240218T120056Z
LAST-MODIFIED:20240218T123100Z
UID:3348-1713607200-1713610800@test.vc-sanitz.de
SUMMARY:Spieltag Herren 1 - Auswärtsspiel in Stralendorf
DESCRIPTION:Amtssporthalle Stralendorf\nAm Wodenweg 1\n19073 Stralendorf \nVC Sanitz – MSV Pampow II
URL:https://test.vc-sanitz.de/event/21483454/
CATEGORIES:Spieltag Herren 1
END:VEVENT
BEGIN:VEVENT
DTSTART;TZID=Europe/Berlin:20240411T193000
DTEND;TZID=Europe/Berlin:20240411T223000
DTSTAMP:20260423T131935
CREATED:20240328T131631Z
LAST-MODIFIED:20240328T131631Z
UID:3500-1712863800-1712874600@test.vc-sanitz.de
SUMMARY:Spieltag Stadtliga I. Mannschaft Heimspiel - Star Volley Kröpelin
DESCRIPTION:
URL:https://test.vc-sanitz.de/event/spieltag-stadtliga-i-mannschaft-heimspiel-star-volley-kroepelin/
CATEGORIES:Spiel,Spieltag Stadtliga 1
END:VEVENT
BEGIN:VEVENT
DTSTART;TZID=Europe/Berlin:20240410T200000
DTEND;TZID=Europe/Berlin:20240410T220000
DTSTAMP:20260423T131935
CREATED:20240328T131149Z
LAST-MODIFIED:20240328T131149Z
UID:3496-1712779200-1712786400@test.vc-sanitz.de
SUMMARY:Spieltag Stadtliga II. Mannschaft Heimspiel - Elmenhorst II.
DESCRIPTION:
URL:https://test.vc-sanitz.de/event/spieltag-stadtliga-ii-mannschaft-heimspiel-elmenhorst-ii/
CATEGORIES:Spiel,Spieltag Stadtliga 2
END:VEVENT
BEGIN:VEVENT
DTSTART;TZID=Europe/Berlin:20240406T080000
DTEND;TZID=Europe/Berlin:20240406T180000
DTSTAMP:20260423T131935
CREATED:20240209T072834Z
LAST-MODIFIED:20240328T125733Z
UID:2693-1712390400-1712426400@test.vc-sanitz.de
SUMMARY:25. Mixed- Frühjahrs - Volleyball - Turnier
DESCRIPTION:Turnierplan:\n08:00 Uhr – Hallenöffnung\n08:45 Uhr – Eröffnung des Turniers\n09:00 Uhr – Spielbeginn\nca. 18.00 Uhr – Spielende\n\nTeilnehmende Mannschaften mit Startgeld: \n1. Sanitz I\,  2. Sanitz II\,  3. IFC Rostock\, 4. Latente Talente\, 5. Sanitz meets Wismar\, 6. Sekt ohne Selter\, 7. SV Neuburg\, 8. Küstenmix\, 9. VolleyVeterans\, 10. RSV Sturmvogel e.V.\, 11. Elmenhorster Volleybären\, 12. Old Schmetterhand\, 13. TSV Einheit Tessin e.V.\, 14. Vorstand & Co\, 15. Sportfreunde Wimmer \nTeilnehmende Mannschaften noch ohne Startgeld: \n  \nWarteliste: \n 
URL:https://test.vc-sanitz.de/event/25-mix-turnier/
LOCATION:Sporthalle II – Sanitz\, John-Brinckman-Straße 16c\, Sanitz\, 18190\, Deutschland
CATEGORIES:Turnier
END:VEVENT
BEGIN:VEVENT
DTSTART;TZID=Europe/Berlin:20240323T130000
DTEND;TZID=Europe/Berlin:20240323T140000
DTSTAMP:20260423T131935
CREATED:20240218T120556Z
LAST-MODIFIED:20240218T122751Z
UID:3343-1711198800-1711202400@test.vc-sanitz.de
SUMMARY:Spieltag Damen 1 - Auswärtsspiel in Waren (Müritz)
DESCRIPTION:Regionale Schule Waren/West\nFriedrich-Engels-Platz 10\n17192 Waren (Müritz) \nVC Sanitz – VC Greifswald IV
URL:https://test.vc-sanitz.de/event/21480963/
CATEGORIES:Spieltag Damen 1
END:VEVENT
BEGIN:VEVENT
DTSTART;TZID=Europe/Berlin:20240323T100000
DTEND;TZID=Europe/Berlin:20240323T110000
DTSTAMP:20260423T131935
CREATED:20240218T120056Z
LAST-MODIFIED:20240218T122731Z
UID:3342-1711188000-1711191600@test.vc-sanitz.de
SUMMARY:Spieltag Damen 1 - Auswärtsspiel in Waren (Müritz)
DESCRIPTION:Regionale Schule Waren/West\nFriedrich-Engels-Platz 10\n17192 Waren (Müritz) \nSKV Müritz – VC Sanitz
URL:https://test.vc-sanitz.de/event/21480957/
CATEGORIES:Spieltag Damen 1
END:VEVENT
BEGIN:VEVENT
DTSTART;TZID=Europe/Berlin:20240316T100000
DTEND;TZID=Europe/Berlin:20240316T110000
DTSTAMP:20260423T131935
CREATED:20240218T122056Z
LAST-MODIFIED:20240218T122718Z
UID:3346-1710583200-1710586800@test.vc-sanitz.de
SUMMARY:Spieltag Herren 1 - Auswärtsspiel in Kühlungsborn
DESCRIPTION:Diesterweg-Schule\nAm Karpfenteich 4\n18225 Kühlungsborn \nKühlungsborner VV 95 – VC Sanitz
URL:https://test.vc-sanitz.de/event/21483429/
CATEGORIES:Spieltag Herren 1
END:VEVENT
BEGIN:VEVENT
DTSTART;TZID=Europe/Berlin:20240316T100000
DTEND;TZID=Europe/Berlin:20240316T110000
DTSTAMP:20260423T131935
CREATED:20240218T121056Z
LAST-MODIFIED:20240218T122709Z
UID:3347-1710583200-1710586800@test.vc-sanitz.de
SUMMARY:Spieltag Herren 1 - Auswärtsspiel in Kühlungsborn
DESCRIPTION:Diesterweg-Schule\nAm Karpfenteich 4\n18225 Kühlungsborn \nVC Sanitz – HSG Uni Rostock III
URL:https://test.vc-sanitz.de/event/21483435/
CATEGORIES:Spieltag Herren 1
END:VEVENT
BEGIN:VEVENT
DTSTART;TZID=Europe/Berlin:20240308T090000
DTEND;TZID=Europe/Berlin:20240308T150000
DTSTAMP:20260423T131935
CREATED:20240210T112443Z
LAST-MODIFIED:20240307T145641Z
UID:2725-1709888400-1709910000@test.vc-sanitz.de
SUMMARY:1. U16 Mädchen-Turnier
DESCRIPTION:  \nTurnierplan\n09:00 Uhr – Hallenöffnung\n09:45 Uhr – Eröffnung des Turniers\n10:00 Uhr – Spielbeginn\nca. 14.00 Uhr – Spielende \nFür Verpflegung ist gesorgt!! \nBei Fragen einfach melden:\nKontakt
URL:https://test.vc-sanitz.de/event/1-u16-maedchen-turnier/
LOCATION:Sporthalle II – Sanitz\, John-Brinckman-Straße 16c\, Sanitz\, 18190\, Deutschland
CATEGORIES:Turnier
END:VEVENT
BEGIN:VEVENT
DTSTART;TZID=Europe/Berlin:20240226T200000
DTEND;TZID=Europe/Berlin:20240226T220000
DTSTAMP:20260423T131935
CREATED:20240220T165009Z
LAST-MODIFIED:20240220T165009Z
UID:3413-1708977600-1708984800@test.vc-sanitz.de
SUMMARY:Spieltag Stadtliga Sanitz II - Auswärtsspiel HSG Mixed
DESCRIPTION:
URL:https://test.vc-sanitz.de/event/spieltag-stadtliga-sanitz-ii-auswaertsspiel-hsg-mixed/
LOCATION:Olaf – Palme – Str. 24\, Olaf - Palme - Str.24\, Rostock
CATEGORIES:Spieltag Stadtliga 2
END:VEVENT
BEGIN:VEVENT
DTSTART;TZID=Europe/Berlin:20240225T113000
DTEND;TZID=Europe/Berlin:20240225T123000
DTSTAMP:20260423T131935
CREATED:20240218T120056Z
LAST-MODIFIED:20240218T122522Z
UID:3341-1708860600-1708864200@test.vc-sanitz.de
SUMMARY:Spieltag Damen 1 - Heimspiel
DESCRIPTION:VC Sanitz – HSV Neubrandenburg
URL:https://test.vc-sanitz.de/event/21480941/
CATEGORIES:Spieltag Damen 1
END:VEVENT
BEGIN:VEVENT
DTSTART;TZID=Europe/Berlin:20240225T100000
DTEND;TZID=Europe/Berlin:20240225T110000
DTSTAMP:20260423T131935
CREATED:20240218T121756Z
LAST-MODIFIED:20240218T121704Z
UID:3340-1708855200-1708858800@test.vc-sanitz.de
SUMMARY:Spieltag Damen 1 - Heimspiel
DESCRIPTION:VC Sanitz – VC Greifswald III
URL:https://test.vc-sanitz.de/event/21480938/
CATEGORIES:Spieltag Damen 1
END:VEVENT
BEGIN:VEVENT
DTSTART;TZID=Europe/Berlin:20240224T130000
DTEND;TZID=Europe/Berlin:20240224T140000
DTSTAMP:20260423T131935
CREATED:20240218T120056Z
LAST-MODIFIED:20240218T121317Z
UID:3351-1708779600-1708783200@test.vc-sanitz.de
SUMMARY:Spieltag Damen 2 - Auswärtsspiel in Ribnitz
DESCRIPTION:Sporthalle bernsteinSchule\nAm Mühlenberg 4\n18311 Ribnitz \nVC Sanitz II – 1. VC Stralsund IV
URL:https://test.vc-sanitz.de/event/21481485/
CATEGORIES:Spieltag Damen 2
END:VEVENT
BEGIN:VEVENT
DTSTART;TZID=Europe/Berlin:20240224T100000
DTEND;TZID=Europe/Berlin:20240224T110000
DTSTAMP:20260423T131935
CREATED:20240218T121556Z
LAST-MODIFIED:20240218T121222Z
UID:3350-1708768800-1708772400@test.vc-sanitz.de
SUMMARY:Spieltag Damen 2 - Auswärtsspiel in Ribnitz
DESCRIPTION:Sporthalle bernsteinSchule\nAm Mühlenberg 4\n18311 Ribnitz \nRSV 1919 Ribnitz – VC Sanitz II
URL:https://test.vc-sanitz.de/event/21481479/
CATEGORIES:Spieltag Damen 2
END:VEVENT
BEGIN:VEVENT
DTSTART;TZID=Europe/Berlin:20240221T200000
DTEND;TZID=Europe/Berlin:20240221T220000
DTSTAMP:20260423T131935
CREATED:20240219T101558Z
LAST-MODIFIED:20240220T161423Z
UID:3382-1708545600-1708552800@test.vc-sanitz.de
SUMMARY:Spieltag Stadtliga Sanitz I – Auswärtsspiel ISV I
DESCRIPTION:
URL:https://test.vc-sanitz.de/event/spieltag-stadtliga1-auswaertsspiel-isv-i/
LOCATION:An der Jägerbäk\, An der Jägerbäk 6\, Rostock
CATEGORIES:Spieltag Stadtliga 1
END:VEVENT
END:VCALENDAR